BEGIN:VCALENDAR
VERSION:2.0
PRODID:-//1. DC Paradiesvögel e.V. - ECPv6.15.18//NONSGML v1.0//EN
CALSCALE:GREGORIAN
METHOD:PUBLISH
X-ORIGINAL-URL:https://2025.paradiesvoegel-strullendorf.com
X-WR-CALDESC:Veranstaltungen für 1. DC Paradiesvögel e.V.
REFRESH-INTERVAL;VALUE=DURATION:PT1H
X-Robots-Tag:noindex
X-PUBLISHED-TTL:PT1H
BEGIN:VTIMEZONE
TZID:Europe/Berlin
BEGIN:DAYLIGHT
TZOFFSETFROM:+0100
TZOFFSETTO:+0200
TZNAME:CEST
DTSTART:20250330T010000
END:DAYLIGHT
BEGIN:STANDARD
TZOFFSETFROM:+0200
TZOFFSETTO:+0100
TZNAME:CET
DTSTART:20251026T010000
END:STANDARD
BEGIN:DAYLIGHT
TZOFFSETFROM:+0100
TZOFFSETTO:+0200
TZNAME:CEST
DTSTART:20260329T010000
END:DAYLIGHT
BEGIN:STANDARD
TZOFFSETFROM:+0200
TZOFFSETTO:+0100
TZNAME:CET
DTSTART:20261025T010000
END:STANDARD
BEGIN:DAYLIGHT
TZOFFSETFROM:+0100
TZOFFSETTO:+0200
TZNAME:CEST
DTSTART:20270328T010000
END:DAYLIGHT
BEGIN:STANDARD
TZOFFSETFROM:+0200
TZOFFSETTO:+0100
TZNAME:CET
DTSTART:20271031T010000
END:STANDARD
END:VTIMEZONE
BEGIN:VEVENT
DTSTART;TZID=Europe/Berlin:20260524T140000
DTEND;TZID=Europe/Berlin:20260524T160000
DTSTAMP:20260421T145235
CREATED:20251209T125318Z
LAST-MODIFIED:20251214T154049Z
UID:882-1779631200-1779638400@2025.paradiesvoegel-strullendorf.com
SUMMARY:Jugend Vereinsmeisterschaft 2026 (SteelDart)
DESCRIPTION:
URL:https://2025.paradiesvoegel-strullendorf.com/event/jugendtraining-8/
LOCATION:Vereinsheim Strullendorf\, Bamberger Straße 1F\, Strullendorf\, Bayern\, 96129\, Germany
CATEGORIES:Jugendtraining
END:VEVENT
BEGIN:VEVENT
DTSTART;TZID=Europe/Berlin:20260606T130000
DTEND;TZID=Europe/Berlin:20260606T160000
DTSTAMP:20260421T145235
CREATED:20260218T173144Z
LAST-MODIFIED:20260218T173144Z
UID:1162-1780750800-1780761600@2025.paradiesvoegel-strullendorf.com
SUMMARY:#6 (35): 1. DC Paradiesvögel 1 - DC Waldrast I e.V.
DESCRIPTION:
URL:https://2025.paradiesvoegel-strullendorf.com/event/6-35-1-dc-paradiesvoegel-1-dc-waldrast-i-e-v/
CATEGORIES:DSAB Bundesliga
END:VEVENT
BEGIN:VEVENT
DTSTART;TZID=Europe/Berlin:20260606T190000
DTEND;TZID=Europe/Berlin:20260606T220000
DTSTAMP:20260421T145235
CREATED:20260218T173145Z
LAST-MODIFIED:20260218T173145Z
UID:1163-1780772400-1780783200@2025.paradiesvoegel-strullendorf.com
SUMMARY:#6 (37): 1. DC Paradiesvögel 1 - Mac Leods
DESCRIPTION:
URL:https://2025.paradiesvoegel-strullendorf.com/event/6-37-1-dc-paradiesvoegel-1-mac-leods/
CATEGORIES:DSAB Bundesliga
END:VEVENT
BEGIN:VEVENT
DTSTART;TZID=Europe/Berlin:20260606T193000
DTEND;TZID=Europe/Berlin:20260606T223000
DTSTAMP:20260421T145235
CREATED:20260202T131117Z
LAST-MODIFIED:20260202T131117Z
UID:1065-1780774200-1780785000@2025.paradiesvoegel-strullendorf.com
SUMMARY:1. DC Paradiesvögel 1 vs. DC Schlossgeister
DESCRIPTION:
URL:https://2025.paradiesvoegel-strullendorf.com/event/1-dc-paradiesvoegel-1-vs-dc-schlossgeister-3/
CATEGORIES:FL Paradiesvögel 1
END:VEVENT
BEGIN:VEVENT
DTSTART;TZID=Europe/Berlin:20260606T193000
DTEND;TZID=Europe/Berlin:20260606T223000
DTSTAMP:20260421T145235
CREATED:20260202T131418Z
LAST-MODIFIED:20260202T131418Z
UID:1081-1780774200-1780785000@2025.paradiesvoegel-strullendorf.com
SUMMARY:Blue Dragons vs. 1. DC Paradiesvögel 5
DESCRIPTION:
URL:https://2025.paradiesvoegel-strullendorf.com/event/blue-dragons-vs-1-dc-paradiesvoegel-5/
CATEGORIES:FL Paradiesvögel 5
END:VEVENT
BEGIN:VEVENT
DTSTART;TZID=Europe/Berlin:20260606T193000
DTEND;TZID=Europe/Berlin:20260606T223000
DTSTAMP:20260421T145235
CREATED:20260202T131555Z
LAST-MODIFIED:20260202T131555Z
UID:1095-1780774200-1780785000@2025.paradiesvoegel-strullendorf.com
SUMMARY:1. DC Paradiesvögel 3 vs. Teutonen Darter 1
DESCRIPTION:
URL:https://2025.paradiesvoegel-strullendorf.com/event/1-dc-paradiesvoegel-3-vs-teutonen-darter-1/
CATEGORIES:FL Paradiesvögel 3
END:VEVENT
BEGIN:VEVENT
DTSTART;TZID=Europe/Berlin:20260607T140000
DTEND;TZID=Europe/Berlin:20260607T160000
DTSTAMP:20260421T145235
CREATED:20251209T125318Z
LAST-MODIFIED:20251209T125842Z
UID:883-1780840800-1780848000@2025.paradiesvoegel-strullendorf.com
SUMMARY:Jugendtraining
DESCRIPTION:
URL:https://2025.paradiesvoegel-strullendorf.com/event/jugendtraining-9/
LOCATION:Vereinsheim Strullendorf\, Bamberger Straße 1F\, Strullendorf\, Bayern\, 96129\, Germany
CATEGORIES:Jugendtraining
END:VEVENT
BEGIN:VEVENT
DTSTART;VALUE=DATE:20260613
DTEND;VALUE=DATE:20260614
DTSTAMP:20260421T145235
CREATED:20251209T144914Z
LAST-MODIFIED:20251209T145653Z
UID:928-1781308800-1781395199@2025.paradiesvoegel-strullendorf.com
SUMMARY:Putz- und Reinigungstag Vereinsheim
DESCRIPTION:
URL:https://2025.paradiesvoegel-strullendorf.com/event/putz-und-reinigungstag-vereinsheim-3/
CATEGORIES:Veranstaltungen
END:VEVENT
BEGIN:VEVENT
DTSTART;TZID=Europe/Berlin:20260620T160000
DTEND;TZID=Europe/Berlin:20260620T190000
DTSTAMP:20260421T145235
CREATED:20260218T173145Z
LAST-MODIFIED:20260218T173145Z
UID:1164-1781971200-1781982000@2025.paradiesvoegel-strullendorf.com
SUMMARY:#7 (42): 1. DC Paradiesvögel 1 - Wespen Hof
DESCRIPTION:
URL:https://2025.paradiesvoegel-strullendorf.com/event/7-42-1-dc-paradiesvoegel-1-wespen-hof/
CATEGORIES:DSAB Bundesliga
END:VEVENT
BEGIN:VEVENT
DTSTART;TZID=Europe/Berlin:20260620T190000
DTEND;TZID=Europe/Berlin:20260620T220000
DTSTAMP:20260421T145235
CREATED:20260218T173145Z
LAST-MODIFIED:20260218T173145Z
UID:1165-1781982000-1781992800@2025.paradiesvoegel-strullendorf.com
SUMMARY:#7 (43): Dart Freunde Eslarn I - 1. DC Paradiesvögel 1
DESCRIPTION:
URL:https://2025.paradiesvoegel-strullendorf.com/event/7-43-dart-freunde-eslarn-i-1-dc-paradiesvoegel-1/
CATEGORIES:DSAB Bundesliga
END:VEVENT
BEGIN:VEVENT
DTSTART;TZID=Europe/Berlin:20260620T193000
DTEND;TZID=Europe/Berlin:20260620T223000
DTSTAMP:20260421T145235
CREATED:20260202T131117Z
LAST-MODIFIED:20260202T131117Z
UID:1066-1781983800-1781994600@2025.paradiesvoegel-strullendorf.com
SUMMARY:DC Löwenpower 1 vs. 1. DC Paradiesvögel 1
DESCRIPTION:
URL:https://2025.paradiesvoegel-strullendorf.com/event/dc-loewenpower-1-vs-1-dc-paradiesvoegel-1-3/
CATEGORIES:FL Paradiesvögel 1
END:VEVENT
BEGIN:VEVENT
DTSTART;TZID=Europe/Berlin:20260620T193000
DTEND;TZID=Europe/Berlin:20260620T223000
DTSTAMP:20260421T145235
CREATED:20260202T131418Z
LAST-MODIFIED:20260202T131418Z
UID:1082-1781983800-1781994600@2025.paradiesvoegel-strullendorf.com
SUMMARY:1. DC Paradiesvögel 5 vs. Vogelwild 1
DESCRIPTION:
URL:https://2025.paradiesvoegel-strullendorf.com/event/1-dc-paradiesvoegel-5-vs-vogelwild-1/
CATEGORIES:FL Paradiesvögel 5
END:VEVENT
BEGIN:VEVENT
DTSTART;TZID=Europe/Berlin:20260620T193000
DTEND;TZID=Europe/Berlin:20260620T223000
DTSTAMP:20260421T145235
CREATED:20260202T131610Z
LAST-MODIFIED:20260202T131610Z
UID:1096-1781983800-1781994600@2025.paradiesvoegel-strullendorf.com
SUMMARY:Die Schädelschbränger vs. 1. DC Paradiesvögel 3
DESCRIPTION:
URL:https://2025.paradiesvoegel-strullendorf.com/event/die-schaedelschbraenger-vs-1-dc-paradiesvoegel-3-2/
CATEGORIES:FL Paradiesvögel 3
END:VEVENT
BEGIN:VEVENT
DTSTART;TZID=Europe/Berlin:20260620T193000
DTEND;TZID=Europe/Berlin:20260620T223000
DTSTAMP:20260421T145235
CREATED:20260202T131834Z
LAST-MODIFIED:20260202T131834Z
UID:1110-1781983800-1781994600@2025.paradiesvoegel-strullendorf.com
SUMMARY:1. DC Paradiesvögel 7 vs. Little Bull Dog's 2
DESCRIPTION:
URL:https://2025.paradiesvoegel-strullendorf.com/event/1-dc-paradiesvoegel-7-vs-little-bull-dogs-2/
CATEGORIES:FL Paradiesvögel 7
END:VEVENT
BEGIN:VEVENT
DTSTART;TZID=Europe/Berlin:20260621T140000
DTEND;TZID=Europe/Berlin:20260621T160000
DTSTAMP:20260421T145235
CREATED:20251209T125318Z
LAST-MODIFIED:20251209T125850Z
UID:884-1782050400-1782057600@2025.paradiesvoegel-strullendorf.com
SUMMARY:Jugendtraining
DESCRIPTION:
URL:https://2025.paradiesvoegel-strullendorf.com/event/jugendtraining-10/
LOCATION:Vereinsheim Strullendorf\, Bamberger Straße 1F\, Strullendorf\, Bayern\, 96129\, Germany
CATEGORIES:Jugendtraining
END:VEVENT
BEGIN:VEVENT
DTSTART;TZID=Europe/Berlin:20260627T193000
DTEND;TZID=Europe/Berlin:20260627T223000
DTSTAMP:20260421T145235
CREATED:20260202T131117Z
LAST-MODIFIED:20260202T131117Z
UID:1067-1782588600-1782599400@2025.paradiesvoegel-strullendorf.com
SUMMARY:1. DC Paradiesvögel 1 vs. Imbiss Darter 1
DESCRIPTION:
URL:https://2025.paradiesvoegel-strullendorf.com/event/1-dc-paradiesvoegel-1-vs-imbiss-darter-1/
CATEGORIES:FL Paradiesvögel 1
END:VEVENT
BEGIN:VEVENT
DTSTART;TZID=Europe/Berlin:20260627T193000
DTEND;TZID=Europe/Berlin:20260627T223000
DTSTAMP:20260421T145235
CREATED:20260202T131418Z
LAST-MODIFIED:20260202T131418Z
UID:1083-1782588600-1782599400@2025.paradiesvoegel-strullendorf.com
SUMMARY:DC Flying Arrows 1 vs. 1. DC Paradiesvögel 5
DESCRIPTION:
URL:https://2025.paradiesvoegel-strullendorf.com/event/dc-flying-arrows-1-vs-1-dc-paradiesvoegel-5-2/
CATEGORIES:FL Paradiesvögel 5
END:VEVENT
BEGIN:VEVENT
DTSTART;TZID=Europe/Berlin:20260627T193000
DTEND;TZID=Europe/Berlin:20260627T223000
DTSTAMP:20260421T145235
CREATED:20260202T131610Z
LAST-MODIFIED:20260202T131610Z
UID:1097-1782588600-1782599400@2025.paradiesvoegel-strullendorf.com
SUMMARY:1. DC Paradiesvögel 3 vs. Lucky Dart e.V. 1
DESCRIPTION:
URL:https://2025.paradiesvoegel-strullendorf.com/event/1-dc-paradiesvoegel-3-vs-lucky-dart-e-v-1/
CATEGORIES:FL Paradiesvögel 3
END:VEVENT
BEGIN:VEVENT
DTSTART;TZID=Europe/Berlin:20260627T193000
DTEND;TZID=Europe/Berlin:20260627T223000
DTSTAMP:20260421T145235
CREATED:20260202T131834Z
LAST-MODIFIED:20260202T131834Z
UID:1111-1782588600-1782599400@2025.paradiesvoegel-strullendorf.com
SUMMARY:Players Darter vs. 1. DC Paradiesvögel 7
DESCRIPTION:
URL:https://2025.paradiesvoegel-strullendorf.com/event/players-darter-vs-1-dc-paradiesvoegel-7/
CATEGORIES:FL Paradiesvögel 7
END:VEVENT
BEGIN:VEVENT
DTSTART;VALUE=DATE:20260703
DTEND;VALUE=DATE:20260707
DTSTAMP:20260421T145235
CREATED:20251209T144914Z
LAST-MODIFIED:20251209T145643Z
UID:929-1783036800-1783382399@2025.paradiesvoegel-strullendorf.com
SUMMARY:Kirchweih Strullendorf
DESCRIPTION:
URL:https://2025.paradiesvoegel-strullendorf.com/event/kirchweih-strullendorf-2/
CATEGORIES:Veranstaltungen
END:VEVENT
BEGIN:VEVENT
DTSTART;TZID=Europe/Berlin:20260705T093000
DTEND;TZID=Europe/Berlin:20260705T143000
DTSTAMP:20260421T145235
CREATED:20260317T192851Z
LAST-MODIFIED:20260317T192933Z
UID:1169-1783243800-1783261800@2025.paradiesvoegel-strullendorf.com
SUMMARY:Preisschafkopfrennen - An der Strullendorfer Kerwa
DESCRIPTION:
URL:https://2025.paradiesvoegel-strullendorf.com/event/preisschafkopfrennen-an-der-strullendorfer-kerwa/
LOCATION:Hauptsmoorhalle
CATEGORIES:Veranstaltungen
END:VEVENT
BEGIN:VEVENT
DTSTART;TZID=Europe/Berlin:20260705T140000
DTEND;TZID=Europe/Berlin:20260705T160000
DTSTAMP:20260421T145235
CREATED:20251209T125333Z
LAST-MODIFIED:20251209T125857Z
UID:885-1783260000-1783267200@2025.paradiesvoegel-strullendorf.com
SUMMARY:Jugendtraining
DESCRIPTION:
URL:https://2025.paradiesvoegel-strullendorf.com/event/jugendtraining-11/
LOCATION:Vereinsheim Strullendorf\, Bamberger Straße 1F\, Strullendorf\, Bayern\, 96129\, Germany
CATEGORIES:Jugendtraining
END:VEVENT
BEGIN:VEVENT
DTSTART;VALUE=DATE:20260711
DTEND;VALUE=DATE:20260713
DTSTAMP:20260421T145235
CREATED:20251209T144914Z
LAST-MODIFIED:20251209T145638Z
UID:930-1783728000-1783900799@2025.paradiesvoegel-strullendorf.com
SUMMARY:Liga - Pokal (Frühjahres-Saison 2026)
DESCRIPTION:
URL:https://2025.paradiesvoegel-strullendorf.com/event/liga-pokal-fruehjahres-saison-2026/
CATEGORIES:Veranstaltungen
END:VEVENT
BEGIN:VEVENT
DTSTART;VALUE=DATE:20260711
DTEND;VALUE=DATE:20260714
DTSTAMP:20260421T145235
CREATED:20251209T144914Z
LAST-MODIFIED:20251209T145634Z
UID:931-1783728000-1783987199@2025.paradiesvoegel-strullendorf.com
SUMMARY:Kirchweih Roßdorf
DESCRIPTION:
URL:https://2025.paradiesvoegel-strullendorf.com/event/kirchweih-rossdorf/
CATEGORIES:Veranstaltungen
END:VEVENT
BEGIN:VEVENT
DTSTART;TZID=Europe/Berlin:20260718T190000
DTEND;TZID=Europe/Berlin:20260718T220000
DTSTAMP:20260421T145235
CREATED:20260218T173145Z
LAST-MODIFIED:20260218T173145Z
UID:1166-1784401200-1784412000@2025.paradiesvoegel-strullendorf.com
SUMMARY:#9 (56): German Darts - 1. DC Paradiesvögel 1
DESCRIPTION:
URL:https://2025.paradiesvoegel-strullendorf.com/event/9-56-german-darts-1-dc-paradiesvoegel-1/
CATEGORIES:DSAB Bundesliga
END:VEVENT
BEGIN:VEVENT
DTSTART;TZID=Europe/Berlin:20260719T140000
DTEND;TZID=Europe/Berlin:20260719T160000
DTSTAMP:20260421T145235
CREATED:20251209T125333Z
LAST-MODIFIED:20251209T125904Z
UID:886-1784469600-1784476800@2025.paradiesvoegel-strullendorf.com
SUMMARY:Jugendtraining
DESCRIPTION:
URL:https://2025.paradiesvoegel-strullendorf.com/event/jugendtraining-12/
LOCATION:Vereinsheim Strullendorf\, Bamberger Straße 1F\, Strullendorf\, Bayern\, 96129\, Germany
CATEGORIES:Jugendtraining
END:VEVENT
BEGIN:VEVENT
DTSTART;VALUE=DATE:20260801
DTEND;VALUE=DATE:20260802
DTSTAMP:20260421T145235
CREATED:20251209T144928Z
LAST-MODIFIED:20251209T145629Z
UID:932-1785542400-1785628799@2025.paradiesvoegel-strullendorf.com
SUMMARY:Frankenliga Master's
DESCRIPTION:
URL:https://2025.paradiesvoegel-strullendorf.com/event/frankenliga-masters/
CATEGORIES:Veranstaltungen
END:VEVENT
BEGIN:VEVENT
DTSTART;VALUE=DATE:20260807
DTEND;VALUE=DATE:20260810
DTSTAMP:20260421T145235
CREATED:20251209T144929Z
LAST-MODIFIED:20251209T145625Z
UID:933-1786060800-1786319999@2025.paradiesvoegel-strullendorf.com
SUMMARY:30-jähriges Jubiläum Paradiesvögel
DESCRIPTION:
URL:https://2025.paradiesvoegel-strullendorf.com/event/30-jaehriges-jubilaeum-paradiesvoegel/
CATEGORIES:Veranstaltungen
END:VEVENT
BEGIN:VEVENT
DTSTART;VALUE=DATE:20260828
DTEND;VALUE=DATE:20260831
DTSTAMP:20260421T145235
CREATED:20251209T144929Z
LAST-MODIFIED:20251209T145620Z
UID:934-1787875200-1788134399@2025.paradiesvoegel-strullendorf.com
SUMMARY:Bayerische Meisterschaften BayDSV
DESCRIPTION:
URL:https://2025.paradiesvoegel-strullendorf.com/event/bayerische-meisterschaften-baydsv/
CATEGORIES:Veranstaltungen
END:VEVENT
BEGIN:VEVENT
DTSTART;VALUE=DATE:20260919
DTEND;VALUE=DATE:20260920
DTSTAMP:20260421T145235
CREATED:20251209T144929Z
LAST-MODIFIED:20251209T145613Z
UID:935-1789776000-1789862399@2025.paradiesvoegel-strullendorf.com
SUMMARY:Putz- und Reinigungstag Vereinsheim
DESCRIPTION:
URL:https://2025.paradiesvoegel-strullendorf.com/event/putz-und-reinigungstag-vereinsheim-4/
CATEGORIES:Veranstaltungen
END:VEVENT
END:VCALENDAR