BEGIN:VCALENDAR
VERSION:2.0
PRODID:-//1. DC Paradiesvögel e.V. - ECPv6.15.18//NONSGML v1.0//EN
CALSCALE:GREGORIAN
METHOD:PUBLISH
X-WR-CALNAME:1. DC Paradiesvögel e.V.
X-ORIGINAL-URL:https://2025.paradiesvoegel-strullendorf.com
X-WR-CALDESC:Veranstaltungen für 1. DC Paradiesvögel e.V.
REFRESH-INTERVAL;VALUE=DURATION:PT1H
X-Robots-Tag:noindex
X-PUBLISHED-TTL:PT1H
BEGIN:VTIMEZONE
TZID:Europe/Berlin
BEGIN:DAYLIGHT
TZOFFSETFROM:+0100
TZOFFSETTO:+0200
TZNAME:CEST
DTSTART:20250330T010000
END:DAYLIGHT
BEGIN:STANDARD
TZOFFSETFROM:+0200
TZOFFSETTO:+0100
TZNAME:CET
DTSTART:20251026T010000
END:STANDARD
BEGIN:DAYLIGHT
TZOFFSETFROM:+0100
TZOFFSETTO:+0200
TZNAME:CEST
DTSTART:20260329T010000
END:DAYLIGHT
BEGIN:STANDARD
TZOFFSETFROM:+0200
TZOFFSETTO:+0100
TZNAME:CET
DTSTART:20261025T010000
END:STANDARD
BEGIN:DAYLIGHT
TZOFFSETFROM:+0100
TZOFFSETTO:+0200
TZNAME:CEST
DTSTART:20270328T010000
END:DAYLIGHT
BEGIN:STANDARD
TZOFFSETFROM:+0200
TZOFFSETTO:+0100
TZNAME:CET
DTSTART:20271031T010000
END:STANDARD
END:VTIMEZONE
BEGIN:VEVENT
DTSTART;TZID=Europe/Berlin:20261108T140000
DTEND;TZID=Europe/Berlin:20261108T160000
DTSTAMP:20260425T134728
CREATED:20251209T125348Z
LAST-MODIFIED:20251209T125934Z
UID:890-1794146400-1794153600@2025.paradiesvoegel-strullendorf.com
SUMMARY:Jugendtraining
DESCRIPTION:
URL:https://2025.paradiesvoegel-strullendorf.com/event/jugendtraining-16/
LOCATION:Vereinsheim Strullendorf\, Bamberger Straße 1F\, Strullendorf\, Bayern\, 96129\, Germany
CATEGORIES:Jugendtraining
END:VEVENT
BEGIN:VEVENT
DTSTART;VALUE=DATE:20261121
DTEND;VALUE=DATE:20261122
DTSTAMP:20260425T134728
CREATED:20251209T144944Z
LAST-MODIFIED:20251209T145554Z
UID:939-1795219200-1795305599@2025.paradiesvoegel-strullendorf.com
SUMMARY:Putz- und Reinigungstag Vereinsheim
DESCRIPTION:
URL:https://2025.paradiesvoegel-strullendorf.com/event/putz-und-reinigungstag-vereinsheim-5/
CATEGORIES:Veranstaltungen
END:VEVENT
BEGIN:VEVENT
DTSTART;TZID=Europe/Berlin:20261122T140000
DTEND;TZID=Europe/Berlin:20261122T160000
DTSTAMP:20260425T134728
CREATED:20251209T125348Z
LAST-MODIFIED:20251209T125940Z
UID:891-1795356000-1795363200@2025.paradiesvoegel-strullendorf.com
SUMMARY:Jugendtraining
DESCRIPTION:
URL:https://2025.paradiesvoegel-strullendorf.com/event/jugendtraining-17/
LOCATION:Vereinsheim Strullendorf\, Bamberger Straße 1F\, Strullendorf\, Bayern\, 96129\, Germany
CATEGORIES:Jugendtraining
END:VEVENT
BEGIN:VEVENT
DTSTART;TZID=Europe/Berlin:20261206T140000
DTEND;TZID=Europe/Berlin:20261206T160000
DTSTAMP:20260425T134728
CREATED:20251209T125348Z
LAST-MODIFIED:20260117T123352Z
UID:892-1796565600-1796572800@2025.paradiesvoegel-strullendorf.com
SUMMARY:Jugendtraining
DESCRIPTION:
URL:https://2025.paradiesvoegel-strullendorf.com/event/jugendtraining-18/
LOCATION:Vereinsheim Strullendorf\, Bamberger Straße 1F\, Strullendorf\, Bayern\, 96129\, Germany
CATEGORIES:Jugendtraining
END:VEVENT
BEGIN:VEVENT
DTSTART;VALUE=DATE:20261219
DTEND;VALUE=DATE:20261220
DTSTAMP:20260425T134728
CREATED:20251209T144944Z
LAST-MODIFIED:20251209T145548Z
UID:940-1797638400-1797724799@2025.paradiesvoegel-strullendorf.com
SUMMARY:Weihnachtsfeier
DESCRIPTION:
URL:https://2025.paradiesvoegel-strullendorf.com/event/weihnachtsfeier/
CATEGORIES:Veranstaltungen
END:VEVENT
BEGIN:VEVENT
DTSTART;TZID=Europe/Berlin:20261220T140000
DTEND;TZID=Europe/Berlin:20261220T160000
DTSTAMP:20260425T134728
CREATED:20251209T125348Z
LAST-MODIFIED:20251209T125456Z
UID:893-1797775200-1797782400@2025.paradiesvoegel-strullendorf.com
SUMMARY:Jugendtraining
DESCRIPTION:
URL:https://2025.paradiesvoegel-strullendorf.com/event/jugendtraining-19/
LOCATION:Vereinsheim Strullendorf\, Bamberger Straße 1F\, Strullendorf\, Bayern\, 96129\, Germany
CATEGORIES:Jugendtraining
END:VEVENT
BEGIN:VEVENT
DTSTART;VALUE=DATE:20261226
DTEND;VALUE=DATE:20261227
DTSTAMP:20260425T134728
CREATED:20251209T144944Z
LAST-MODIFIED:20251209T145543Z
UID:941-1798243200-1798329599@2025.paradiesvoegel-strullendorf.com
SUMMARY:Weihnachtsturnier
DESCRIPTION:
URL:https://2025.paradiesvoegel-strullendorf.com/event/weihnachtsturnier/
CATEGORIES:Veranstaltungen
END:VEVENT
BEGIN:VEVENT
DTSTART;VALUE=DATE:20261231
DTEND;VALUE=DATE:20270101
DTSTAMP:20260425T134728
CREATED:20251209T144959Z
LAST-MODIFIED:20251209T145411Z
UID:942-1798675200-1798761599@2025.paradiesvoegel-strullendorf.com
SUMMARY:Silvesterparty
DESCRIPTION:
URL:https://2025.paradiesvoegel-strullendorf.com/event/silvesterparty/
CATEGORIES:Veranstaltungen
END:VEVENT
END:VCALENDAR